BEGIN:VCALENDAR
VERSION:2.0
PRODID:-//Drupal iCal API//EN
X-WR-CALNAME:Calendar of Events
X-WR-TIMEZONE:America/Chicago
BEGIN:VTIMEZONE
TZID:America/Chicago
X-LIC-LOCATION:America/Chicago
BEGIN:DAYLIGHT
TZNAME:CDT
TZOFFSETFROM:-0600
TZOFFSETTO:-0500
DTSTART:20260308T080000
END:DAYLIGHT
BEGIN:STANDARD
TZNAME:CST
TZOFFSETFROM:-0500
TZOFFSETTO:-0600
DTSTART:20251102T070000
END:STANDARD
END:VTIMEZONE
BEGIN:VEVENT
UID:d95256ef-f697-4fc4-9ae7-d3f6f89c9343
DTSTART;TZID=America/Chicago:20260424T103000
SEQUENCE:0
TRANSP:TRANSPARENT
DTEND;TZID=America/Chicago:20260424T113000
SUMMARY:Coffee With The Principal/ Cafe con el Director
CLASS:PUBLIC
DESCRIPTION:Body \n\nJoin us for our monthly Coffee with the Principal! \n
 \n¡Acompáñanos en nuestro Café con el director mensual!
DTSTAMP:20260420T154624Z
END:VEVENT
END:VCALENDAR